Workbook

Sheet Summary
A1: Net per direct hour, by row — scaled to a month (Reselling — Advanced, ch2)
A2: Edit the yellow cells. Everything else calculates. Free from ePORTS — eports.global/resources/reselling
A3: Weekly hours come from the Week log × 52/12. A once-a-month event (a flea-market Saturday) has no week-log scaling: put that month's actual hours in column D instead — or any row's hours, if you already know them for the month (column D overrides). Sales and net come from last month's records.
A5: Row | B5: Week-log minutes | C5: Hours / month (weekly × 52/12) | D5: Hours this month, entered directly (overrides) | E5: Sales (month) | F5: Net (month) | G5: Hours used | H5: Net per direct hour
A6: eBay, items selling $25+ | B6: =IF(A6="","",SUMIFS('Week log'!$F$6:$F$205,'Week log'!$E$6:$E$205,A6)) | C6: =IF(A6="","",B6/60*52/12) | D6: 24 | E6: 30 | F6: 570 | G6: =IF(A6="","",IF(D6<>"",D6,C6)) | H6: =IF(OR(A6="",F6=""),"",IF(G6>0,F6/G6,"no hours logged"))
A7: eBay, items selling under $25 | B7: =IF(A7="","",SUMIFS('Week log'!$F$6:$F$205,'Week log'!$E$6:$E$205,A7)) | C7: =IF(A7="","",B7/60*52/12) | D7: 11 | E7: 14 | F7: 70 | G7: =IF(A7="","",IF(D7<>"",D7,C7)) | H7: =IF(OR(A7="",F7=""),"",IF(G7>0,F7/G7,"no hours logged"))
A8: Mercari | B8: =IF(A8="","",SUMIFS('Week log'!$F$6:$F$205,'Week log'!$E$6:$E$205,A8)) | C8: =IF(A8="","",B8/60*52/12) | D8: 6 | E8: 6 | F8: 66 | G8: =IF(A8="","",IF(D8<>"",D8,C8)) | H8: =IF(OR(A8="",F8=""),"",IF(G8>0,F8/G8,"no hours logged"))
A9: Flea market | B9: =IF(A9="","",SUMIFS('Week log'!$F$6:$F$205,'Week log'!$E$6:$E$205,A9)) | C9: =IF(A9="","",B9/60*52/12) | D9: 7 | E9: 10 | F9: 134 | G9: =IF(A9="","",IF(D9<>"",D9,C9)) | H9: =IF(OR(A9="",F9=""),"",IF(G9>0,F9/G9,"no hours logged"))
B10: =IF(A10="","",SUMIFS('Week log'!$F$6:$F$205,'Week log'!$E$6:$E$205,A10)) | C10: =IF(A10="","",B10/60*52/12) | G10: =IF(A10="","",IF(D10<>"",D10,C10)) | H10: =IF(OR(A10="",F10=""),"",IF(G10>0,F10/G10,"no hours logged"))
B11: =IF(A11="","",SUMIFS('Week log'!$F$6:$F$205,'Week log'!$E$6:$E$205,A11)) | C11: =IF(A11="","",B11/60*52/12) | G11: =IF(A11="","",IF(D11<>"",D11,C11)) | H11: =IF(OR(A11="",F11=""),"",IF(G11>0,F11/G11,"no hours logged"))
B12: =IF(A12="","",SUMIFS('Week log'!$F$6:$F$205,'Week log'!$E$6:$E$205,A12)) | C12: =IF(A12="","",B12/60*52/12) | G12: =IF(A12="","",IF(D12<>"",D12,C12)) | H12: =IF(OR(A12="",F12=""),"",IF(G12>0,F12/G12,"no hours logged"))
B13: =IF(A13="","",SUMIFS('Week log'!$F$6:$F$205,'Week log'!$E$6:$E$205,A13)) | C13: =IF(A13="","",B13/60*52/12) | G13: =IF(A13="","",IF(D13<>"",D13,C13)) | H13: =IF(OR(A13="",F13=""),"",IF(G13>0,F13/G13,"no hours logged"))
B14: =IF(A14="","",SUMIFS('Week log'!$F$6:$F$205,'Week log'!$E$6:$E$205,A14)) | C14: =IF(A14="","",B14/60*52/12) | G14: =IF(A14="","",IF(D14<>"",D14,C14)) | H14: =IF(OR(A14="",F14=""),"",IF(G14>0,F14/G14,"no hours logged"))
B15: =IF(A15="","",SUMIFS('Week log'!$F$6:$F$205,'Week log'!$E$6:$E$205,A15)) | C15: =IF(A15="","",B15/60*52/12) | G15: =IF(A15="","",IF(D15<>"",D15,C15)) | H15: =IF(OR(A15="",F15=""),"",IF(G15>0,F15/G15,"no hours logged"))
B16: =IF(A16="","",SUMIFS('Week log'!$F$6:$F$205,'Week log'!$E$6:$E$205,A16)) | C16: =IF(A16="","",B16/60*52/12) | G16: =IF(A16="","",IF(D16<>"",D16,C16)) | H16: =IF(OR(A16="",F16=""),"",IF(G16>0,F16/G16,"no hours logged"))
B17: =IF(A17="","",SUMIFS('Week log'!$F$6:$F$205,'Week log'!$E$6:$E$205,A17)) | C17: =IF(A17="","",B17/60*52/12) | G17: =IF(A17="","",IF(D17<>"",D17,C17)) | H17: =IF(OR(A17="",F17=""),"",IF(G17>0,F17/G17,"no hours logged"))
A18: Overhead (messages, returns, admin) — hours / month | G18: 4
A19: WHOLE BUSINESS, overhead included | E19: =SUM(E6:E17) | F19: =SUM(F6:F17) | G19: =SUM(G6:G17)+G18 | H19: =IF(G19>0,F19/G19,"")
A21: The worst row is usually where the first win is. Write ONE stop-doing with a date, and switch it off on that date. Anything weak but unproven: mark 'watch'. A channel you're tempted by but haven't measured: an empty row.
A22: Example rows are the book's composite (Terri), entered as monthly hours in column D. Replace them with your own; clear column D to use the Week log instead.
A24: ePORTS — your ecom source. eports.global · The Reselling shelf: Basics · Intermediate · Advanced — eports.global/resources/reselling

Sheet Week log
A1: Time study — one ordinary week, every block (Reselling — Advanced, ch2)
A2: Edit the yellow cells. Everything else calculates. Free from ePORTS — eports.global/resources/reselling
A3: One line per block. Start and end as times (e.g. 9:15, 11:00). Row = the Summary row the block belongs to (type it exactly as on the Summary tab). Split a sourcing trip by items: trip minutes ÷ items bought, added to each item's row. Don't change how you work this week.
A5: Day | B5: Start | C5: End | D5: Job | E5: Row (from Summary) | F5: Minutes
F6: =IF(OR(B6="",C6=""),"",ROUND((C6-B6)*1440,0))
F7: =IF(OR(B7="",C7=""),"",ROUND((C7-B7)*1440,0))
F8: =IF(OR(B8="",C8=""),"",ROUND((C8-B8)*1440,0))
F9: =IF(OR(B9="",C9=""),"",ROUND((C9-B9)*1440,0))
F10: =IF(OR(B10="",C10=""),"",ROUND((C10-B10)*1440,0))
F11: =IF(OR(B11="",C11=""),"",ROUND((C11-B11)*1440,0))
F12: =IF(OR(B12="",C12=""),"",ROUND((C12-B12)*1440,0))
F13: =IF(OR(B13="",C13=""),"",ROUND((C13-B13)*1440,0))
F14: =IF(OR(B14="",C14=""),"",ROUND((C14-B14)*1440,0))
F15: =IF(OR(B15="",C15=""),"",ROUND((C15-B15)*1440,0))
F16: =IF(OR(B16="",C16=""),"",ROUND((C16-B16)*1440,0))
F17: =IF(OR(B17="",C17=""),"",ROUND((C17-B17)*1440,0))
... F205: =IF(OR(B205="",C205=""),"",ROUND((C205-B205)*1440,0))
A207: ePORTS — your ecom source. eports.global · The Reselling shelf: Basics · Intermediate · Advanced — eports.global/resources/reselling
